BEGIN:VCALENDAR
VERSION:2.0
PRODID:-//pretix//pretix.eu//
BEGIN:VTIMEZONE
TZID:Europe/Berlin
BEGIN:STANDARD
DTSTART:20001029T040000
RRULE:FREQ=YEARLY;BYDAY=-1SU;BYMONTH=10
TZNAME:CET
TZOFFSETFROM:+0200
TZOFFSETTO:+0100
END:STANDARD
BEGIN:DAYLIGHT
DTSTART:20000326T030000
RRULE:FREQ=YEARLY;BYDAY=-1SU;BYMONTH=3
TZNAME:CEST
TZOFFSETFROM:+0100
TZOFFSETTO:+0200
END:DAYLIGHT
END:VTIMEZONE
BEGIN:VEVENT
UID:pretix-lgv-koengen-ComeTogether2-0@ticket.lgv-koengen.de
DTSTART;TZID=Europe/Berlin:20260424T190000
DTEND;TZID=Europe/Berlin:20260424T200000
DESCRIPTION:Tickets: https://ticket.lgv-koengen.de/ComeTogether2/\nVeransta
 lter: Liebenzeller Gemeinschaft Köngen
DTSTAMP:20260424T145919Z
LOCATION:Gustav Werner Haus (ev. Gemeindehaus)\, Gunzenhauser Straße 16\, 
 73257 Köngen
SUMMARY:Come together
END:VEVENT
END:VCALENDAR
