BEGIN:VCALENDAR
VERSION:2.0
PRODID:-//pretix//pretix.eu//
BEGIN:VTIMEZONE
TZID:Europe/Berlin
BEGIN:STANDARD
DTSTART:20001029T040000
RRULE:FREQ=YEARLY;BYDAY=-1SU;BYMONTH=10
TZNAME:CET
TZOFFSETFROM:+0200
TZOFFSETTO:+0100
END:STANDARD
BEGIN:DAYLIGHT
DTSTART:20000326T030000
RRULE:FREQ=YEARLY;BYDAY=-1SU;BYMONTH=3
TZNAME:CEST
TZOFFSETFROM:+0100
TZOFFSETTO:+0200
END:DAYLIGHT
END:VTIMEZONE
BEGIN:VEVENT
UID:pretix-lgv-koengen-sinnenpark-3821454@ticket.lgv-koengen.de
DTSTART;TZID=Europe/Berlin:20230719T200000
DTEND;TZID=Europe/Berlin:20230719T210000
DESCRIPTION:Tickets: https://ticket.lgv-koengen.de/sinnenpark/3821454/\nVer
 anstalter: Liebenzeller Gemeinschaft Köngen
DTSTAMP:20260420T051444Z
LOCATION:evangelischen Gemeindehaus Köngen\, Gunzenhauser Straße 16\, 732
 57 Köngen
SUMMARY:Sinnenpark - die Erlebnisausstellung
END:VEVENT
END:VCALENDAR
